BEGIN:VCALENDAR
VERSION:2.0
PRODID:-//CMC Prairie Region - ECPv6.15.20//NONSGML v1.0//EN
CALSCALE:GREGORIAN
METHOD:PUBLISH
X-WR-CALNAME:CMC Prairie Region
X-ORIGINAL-URL:https://pr.cmccanada.org
X-WR-CALDESC:Events for CMC Prairie Region
REFRESH-INTERVAL;VALUE=DURATION:PT1H
X-Robots-Tag:noindex
X-PUBLISHED-TTL:PT1H
BEGIN:VTIMEZONE
TZID:America/Edmonton
BEGIN:DAYLIGHT
TZOFFSETFROM:-0700
TZOFFSETTO:-0600
TZNAME:MDT
DTSTART:20240310T090000
END:DAYLIGHT
BEGIN:STANDARD
TZOFFSETFROM:-0600
TZOFFSETTO:-0700
TZNAME:MST
DTSTART:20241103T080000
END:STANDARD
BEGIN:DAYLIGHT
TZOFFSETFROM:-0700
TZOFFSETTO:-0600
TZNAME:MDT
DTSTART:20250309T090000
END:DAYLIGHT
BEGIN:STANDARD
TZOFFSETFROM:-0600
TZOFFSETTO:-0700
TZNAME:MST
DTSTART:20251102T080000
END:STANDARD
BEGIN:DAYLIGHT
TZOFFSETFROM:-0700
TZOFFSETTO:-0600
TZNAME:MDT
DTSTART:20260308T090000
END:DAYLIGHT
BEGIN:STANDARD
TZOFFSETFROM:-0600
TZOFFSETTO:-0700
TZNAME:MST
DTSTART:20261101T080000
END:STANDARD
END:VTIMEZONE
BEGIN:VEVENT
DTSTART;TZID=America/Edmonton:20250310T193000
DTEND;TZID=America/Edmonton:20250310T213000
DTSTAMP:20260419T062016
CREATED:20250310T221801Z
LAST-MODIFIED:20250310T221801Z
UID:10000081-1741635000-1741642200@pr.cmccanada.org
SUMMARY:Land’s End with Andy Lin: Celebrating Asian Voices (in partnership with The University of Calgary)
DESCRIPTION:Land’s End with Andy Lin: Celebrating Asian Voices (in partnership with The University of Calgary)\n\n\n\n\nMarch 29\, 2025 6:30 pm\n\n\n\n\nLocation: Rozsa Centre\nPre-Concert Chat: 6:30pm\nPre-Concert Performance: 7pm\nConcert: 7:30pm \nFEATURED GUEST ARTIST & CO-CURATOR: Andy Lin (erhu) \nProgram\nRoydon Tse – Blues n’ Grooves (erhu & piano)\n夜來香/Fragrance of the Night (erhu & piano)\n賽馬/Horse Racing (erhu &amp; piano)\nVivian Fung – Humanoid (cello & electronics)\nShih-Hui Chen – flashback moments (erhu & piano trio)\n[INTERMISSION]\nVincent Ho – Busker Suite (violin)\nVincent Ou Yang – <New work for trio>\nBright Sheng – Clearwater Rhapsody (erhu & piano trio) \nAs part of our annual concert in University of Calgary’s “Alchemy Festival”\, we are thrilled to have with us as our special guest artist\, erhuist Andy Lin! Mr. Lin has been hailed as an award-winning violist and erhuist garnering critical acclaim in all his performances and winning numerous prizes. Together we present a program featuring works by three generations of today’s Asian composers:\nBright Sheng\, Shih-Hui Chen\, Vivian Fung\, and Calgary’s own Roydon Tse and Vincent Ho. In addition\, we continue our annual Student Composers’ Program this season with the premiere of a new work by UofC grad student Vincent Ou Yang\, written specially for Land’s End Ensemble.
URL:https://pr.cmccanada.org/event/lands-end-with-andy-lin-celebrating-asian-voices-in-partnership-with-the-university-of-calgary/
LOCATION:Eckhardt-Gramatté Hall\, 2500 University Drive NW\, Calgary\, AB\, T2N 1N4\, Canada
END:VEVENT
BEGIN:VEVENT
DTSTART;TZID=America/Edmonton:20250313T130000
DTEND;TZID=America/Edmonton:20250313T140000
DTSTAMP:20260419T062016
CREATED:20250128T190739Z
LAST-MODIFIED:20250225T193238Z
UID:10000053-1741870800-1741874400@pr.cmccanada.org
SUMMARY:Jocelyn Moclock\, Manitoba Chamber Orchestra
DESCRIPTION:Matinee tickets available here\nEvening casual tickets available here\n\nPre-Concert Event featuring the Winnipeg Boys’ Choir!\nStarting at 6.45pm. All ticketholders are welcome! \n\n5 / LULLABY OF THE SNOW\n1.00pm and 7.30pm\, Thursday\, March 13\nCrescent Arts Centre (525 Wardlaw Ave)\nDavid Bui\, conductor; Allen Harrington\, saxophone \nWinnipegger Allen Harrington is one of Canada’s finest wind players. He makes Sally Beamish’ iconic saxophone concerto absolutely sing in this concert warmly ushering in spring. \nJocelyn Morlock\nNostalgia \nSally Beamish\nUnder the Wing of the Rock: Saxophone Concerto No. 2 \nAstor Piazzolla\nLibertango\, arranged for Saxophone and Strings \nIntermission \nBenjamin Britten\nSimple Symphony (excerpts) \nBenjamin Britten\nVariations on a Theme of Frank Bridge \nProgram subject to change.
URL:https://pr.cmccanada.org/event/jocelyn-moclock-winnipeg-chamber-orchestra/2025-03-13/1/
LOCATION:Crescent Arts Centre\, 525 Wardlaw Ave\, Winnipeg\, Manitoba\, R3L 0L9\, Canada
ATTACH;FMTTYPE=image/jpeg:https://pr.cmccanada.org/wp-content/uploads/sites/5/2025/01/MorlockJocelyn03-e1537336135241-scaled-copy-2.jpg
END:VEVENT
BEGIN:VEVENT
DTSTART;TZID=America/Edmonton:20250313T193000
DTEND;TZID=America/Edmonton:20250313T203000
DTSTAMP:20260419T062016
CREATED:20250128T190739Z
LAST-MODIFIED:20250225T193238Z
UID:10000054-1741894200-1741897800@pr.cmccanada.org
SUMMARY:Jocelyn Moclock\, Manitoba Chamber Orchestra
DESCRIPTION:Matinee tickets available here\nEvening casual tickets available here\n\nPre-Concert Event featuring the Winnipeg Boys’ Choir!\nStarting at 6.45pm. All ticketholders are welcome! \n\n5 / LULLABY OF THE SNOW\n1.00pm and 7.30pm\, Thursday\, March 13\nCrescent Arts Centre (525 Wardlaw Ave)\nDavid Bui\, conductor; Allen Harrington\, saxophone \nWinnipegger Allen Harrington is one of Canada’s finest wind players. He makes Sally Beamish’ iconic saxophone concerto absolutely sing in this concert warmly ushering in spring. \nJocelyn Morlock\nNostalgia \nSally Beamish\nUnder the Wing of the Rock: Saxophone Concerto No. 2 \nAstor Piazzolla\nLibertango\, arranged for Saxophone and Strings \nIntermission \nBenjamin Britten\nSimple Symphony (excerpts) \nBenjamin Britten\nVariations on a Theme of Frank Bridge \nProgram subject to change.
URL:https://pr.cmccanada.org/event/jocelyn-moclock-winnipeg-chamber-orchestra/2025-03-13/2/
LOCATION:Crescent Arts Centre\, 525 Wardlaw Ave\, Winnipeg\, Manitoba\, R3L 0L9\, Canada
ATTACH;FMTTYPE=image/jpeg:https://pr.cmccanada.org/wp-content/uploads/sites/5/2025/01/MorlockJocelyn03-e1537336135241-scaled-copy-2.jpg
END:VEVENT
BEGIN:VEVENT
DTSTART;TZID=America/Edmonton:20250315T193000
DTEND;TZID=America/Edmonton:20250315T213000
DTSTAMP:20260419T062016
CREATED:20250128T191151Z
LAST-MODIFIED:20250128T191151Z
UID:10000055-1742067000-1742074200@pr.cmccanada.org
SUMMARY:Oscar Morawetz\, Winnipeg Symphony Orchestra
DESCRIPTION:Oscar Morawetz: Carnival Overture\nRobert Schumann: Cello Concerto\nGustav Mahler: Symphony No. 4 \nRevel in the vibrant contrasts of Oscar Morawetz’s lively overture\, Robert Schumann’s lyrical cello concerto\, and Gustav Mahler’s celestial fourth symphony\, featuring the exquisite talents of cellist Bryan Cheng and soprano Lara Ciekiewicz. \nJoin us for an evening of contrasts and connections with music that ranges from the festive to the sublime. The concert begins with Oscar Morawetz’s “Carnival Overture\,” a lively piece that captures the spirited festivities of a carnival. This overture is packed with energy and charm\, setting the stage for a delightful evening. \nNext\, Canadian-born\, Berlin-based cellist Bryan Cheng returns to perform Robert Schumann’s Cello Concerto\, a piece known for its lyrical beauty and innovative structure. Cheng’s previous performances with the WSO have been met with enthusiastic acclaim\, and his interpretation of Schumann’s concerto is sure to be a highlight of the season. \nKnown for his sold-out Carnegie Hall debut at 14 and performances with renowned orchestras worldwide\, Cheng continues to captivate audiences with his dynamic interpretations\, extensive recital highlights\, and critically acclaimed albums\, showcasing his exceptional talent and dedication to his craft. \nThe concert concludes with Mahler’s Symphony No. 4\, a work that combines the classical charm of Haydn with the emotional depth of Beethoven. Winnipeg’s own soprano star Lara Ciekiewicz joins the orchestra for the symphony’s final movement\, singing of a child’s vision of heaven—a serene and joyful conclusion to the evening. \nAcclaimed for her “tour-de-force performance” in Manitoba Opera’s Susannah\, Ciekiewicz is celebrated for her dynamic and moving portrayals across genres\, earning her the reputation of an artistic chameleon. Her versatility and transformative ability shine through in her captivating performances on stage. \nFun Fact: Mahler’s Fourth Symphony includes sleigh bells in the first movement\, adding a whimsical touch that evokes a wintry landscape.
URL:https://pr.cmccanada.org/event/oscar-morawetz-winnipeg-symphony-orchestra/
LOCATION:Centennial Concert Hall\, 555 Main Street\, Winnipeg\, Manitoba\, R3B 1C3\, Canada
ATTACH;FMTTYPE=image/jpeg:https://pr.cmccanada.org/wp-content/uploads/sites/5/2025/01/Oskarcomposing.jpg
END:VEVENT
BEGIN:VEVENT
DTSTART;TZID=America/Edmonton:20250320T190000
DTEND;TZID=America/Edmonton:20250320T210000
DTSTAMP:20260419T062016
CREATED:20250128T191443Z
LAST-MODIFIED:20250128T191443Z
UID:10000056-1742497200-1742504400@pr.cmccanada.org
SUMMARY:GroundSwell 4: North/South\, Curated by Jim Hiscott
DESCRIPTION:GS4: North/South\n\n\n\n\n\n\n\n\n\nGS4: North/South \nMarch 20\, 2025\, 7:00pm \nGroundSwell and WAG-Qaumajuq are thrilled to co-present North/South\, a unique gallery concert featuring throat songs by Nikki Komaksiutiksak and family\, as well as music for violas and percussion played by Melody McKiver\, Jennifer Thiessen and Ben Reimer.  New collaborations by Melody McKiver and Jennifer Thiessen and new compositions by Melody McKiver\, Jim Hiscott and more. \nCome before the concert at 6pm to walk through the spectacular exhibition\, Inuit Sanaugangit: Art Across Time featuring a survey of artistic expression from approximately 200 BCE until the present day that highlights over 400 works produced by Inuit artists from Siberia\, Alaska\, Canada\, and Greenland\, and stay after the concert to see more of the exhibition.  Thursday\, March 20\, 2025\, WAG- Qaumajuq. \nCurated by Jim Hiscott.
URL:https://pr.cmccanada.org/event/groundswell-4-north-south-curated-by-jim-hiscott/
LOCATION:Alberta
ATTACH;FMTTYPE=image/png:https://pr.cmccanada.org/wp-content/uploads/sites/5/2025/01/Jim-Hiscott.png
ORGANIZER;CN="GroundSwell":MAILTO:info@gswell.ca
END:VEVENT
END:VCALENDAR