BEGIN:VCALENDAR
VERSION:2.0
PRODID:-//CMC Prairie Region - ECPv6.15.20//NONSGML v1.0//EN
CALSCALE:GREGORIAN
METHOD:PUBLISH
X-ORIGINAL-URL:https://pr.cmccanada.org
X-WR-CALDESC:Events for CMC Prairie Region
REFRESH-INTERVAL;VALUE=DURATION:PT1H
X-Robots-Tag:noindex
X-PUBLISHED-TTL:PT1H
BEGIN:VTIMEZONE
TZID:America/Edmonton
BEGIN:DAYLIGHT
TZOFFSETFROM:-0700
TZOFFSETTO:-0600
TZNAME:MDT
DTSTART:20230312T090000
END:DAYLIGHT
BEGIN:STANDARD
TZOFFSETFROM:-0600
TZOFFSETTO:-0700
TZNAME:MST
DTSTART:20231105T080000
END:STANDARD
BEGIN:DAYLIGHT
TZOFFSETFROM:-0700
TZOFFSETTO:-0600
TZNAME:MDT
DTSTART:20240310T090000
END:DAYLIGHT
BEGIN:STANDARD
TZOFFSETFROM:-0600
TZOFFSETTO:-0700
TZNAME:MST
DTSTART:20241103T080000
END:STANDARD
BEGIN:DAYLIGHT
TZOFFSETFROM:-0700
TZOFFSETTO:-0600
TZNAME:MDT
DTSTART:20250309T090000
END:DAYLIGHT
BEGIN:STANDARD
TZOFFSETFROM:-0600
TZOFFSETTO:-0700
TZNAME:MST
DTSTART:20251102T080000
END:STANDARD
END:VTIMEZONE
BEGIN:VEVENT
DTSTART;TZID=America/Edmonton:20240403T090000
DTEND;TZID=America/Edmonton:20240403T160000
DTSTAMP:20260419T162252
CREATED:20240327T154027Z
LAST-MODIFIED:20240327T154506Z
UID:10000003-1712134800-1712160000@pr.cmccanada.org
SUMMARY:Monster Music Sale
DESCRIPTION:Our upcoming Monster Music Sale will feature sheet music\, music books\, rare and superlative LP’s and box sets\, and compact disks from all genres! Everything $5 on day one\, everything half price on day two!
URL:https://pr.cmccanada.org/event/monster-music-sale/2024-04-03/
LOCATION:University Theatre Foyer\, 2500 University Drive NW\, Calgary\, AB\, T2N 1N4\, Canada
CATEGORIES:Prairie
ORGANIZER;CN="CMC Prairie":MAILTO:prairie@cmccanada.org
END:VEVENT
BEGIN:VEVENT
DTSTART;TZID=America/Edmonton:20240404T090000
DTEND;TZID=America/Edmonton:20240404T160000
DTSTAMP:20260419T162252
CREATED:20240327T154027Z
LAST-MODIFIED:20240327T154506Z
UID:10000004-1712221200-1712246400@pr.cmccanada.org
SUMMARY:Monster Music Sale
DESCRIPTION:Our upcoming Monster Music Sale will feature sheet music\, music books\, rare and superlative LP’s and box sets\, and compact disks from all genres! Everything $5 on day one\, everything half price on day two!
URL:https://pr.cmccanada.org/event/monster-music-sale/2024-04-04/
LOCATION:University Theatre Foyer\, 2500 University Drive NW\, Calgary\, AB\, T2N 1N4\, Canada
CATEGORIES:Prairie
ORGANIZER;CN="CMC Prairie":MAILTO:prairie@cmccanada.org
END:VEVENT
END:VCALENDAR