BEGIN:VCALENDAR
VERSION:2.0
PRODID:-//CMC Prairie Region - ECPv6.15.20//NONSGML v1.0//EN
CALSCALE:GREGORIAN
METHOD:PUBLISH
X-WR-CALNAME:CMC Prairie Region
X-ORIGINAL-URL:https://pr.cmccanada.org
X-WR-CALDESC:Events for CMC Prairie Region
REFRESH-INTERVAL;VALUE=DURATION:PT1H
X-Robots-Tag:noindex
X-PUBLISHED-TTL:PT1H
BEGIN:VTIMEZONE
TZID:America/Edmonton
BEGIN:DAYLIGHT
TZOFFSETFROM:-0700
TZOFFSETTO:-0600
TZNAME:MDT
DTSTART:20240310T090000
END:DAYLIGHT
BEGIN:STANDARD
TZOFFSETFROM:-0600
TZOFFSETTO:-0700
TZNAME:MST
DTSTART:20241103T080000
END:STANDARD
BEGIN:DAYLIGHT
TZOFFSETFROM:-0700
TZOFFSETTO:-0600
TZNAME:MDT
DTSTART:20250309T090000
END:DAYLIGHT
BEGIN:STANDARD
TZOFFSETFROM:-0600
TZOFFSETTO:-0700
TZNAME:MST
DTSTART:20251102T080000
END:STANDARD
BEGIN:DAYLIGHT
TZOFFSETFROM:-0700
TZOFFSETTO:-0600
TZNAME:MDT
DTSTART:20260308T090000
END:DAYLIGHT
BEGIN:STANDARD
TZOFFSETFROM:-0600
TZOFFSETTO:-0700
TZNAME:MST
DTSTART:20261101T080000
END:STANDARD
END:VTIMEZONE
BEGIN:VEVENT
DTSTART;TZID=America/Edmonton:20251004T193000
DTEND;TZID=America/Edmonton:20251004T213000
DTSTAMP:20260419T073258
CREATED:20250626T211615Z
LAST-MODIFIED:20250708T162311Z
UID:10000110-1759606200-1759613400@pr.cmccanada.org
SUMMARY:Carlos Foggin\, Rocky Mountain Symphony Orchestra
DESCRIPTION:October 4 (7:30 pm) @ The Polaris Centre for the Performing Arts – https://www.showpass.com/strauss-wars-1/\nOctober 5 (3:00 pm) @ Red Deer Lake United Church – https://www.showpass.com/strauss-wars-2/ \n\n\n\n\n\n\n\n\n1 hr 45 minutes with intermission \n\n\n\n\n\n\n\n\n\n\n\n\n\n\n\n\n\n\n\n\n\n\n\nThe Program\nJoin us as we kick off our 10th Anniversary Season with flair\, elegance\, and a wink to sci-fi! \nFeaturing Stellaris\, an original orchestral suite by Carlos Foggin. \nFeatured Artists\nROCKY MOUNTAIN SYMPHONY ORCHESTRA\nCARLOS FOGGIN RMSO Music Director Laureate
URL:https://pr.cmccanada.org/event/carlos-foggin-rocky-mountain-symphony-orchestra/
LOCATION:The Polaris Centre for the Performing Arts\, 7-261051 Wagon Wheel View\, Rocky View County\, Alberta\, T4A 0E2\, Canada
ATTACH;FMTTYPE=image/jpeg:https://pr.cmccanada.org/wp-content/uploads/sites/5/2025/06/Carlos-Foggin-feature-image.jpg
END:VEVENT
END:VCALENDAR